BEGIN:VCALENDAR
VERSION:2.0
PRODID:-//Mission Royale Golf Club - ECPv6.15.18//NONSGML v1.0//EN
CALSCALE:GREGORIAN
METHOD:PUBLISH
X-WR-CALNAME:Mission Royale Golf Club
X-ORIGINAL-URL:https://www.missionroyalegolfclub.com
X-WR-CALDESC:Events for Mission Royale Golf Club
REFRESH-INTERVAL;VALUE=DURATION:PT1H
X-Robots-Tag:noindex
X-PUBLISHED-TTL:PT1H
BEGIN:VTIMEZONE
TZID:UTC
BEGIN:STANDARD
TZOFFSETFROM:+0000
TZOFFSETTO:+0000
TZNAME:UTC
DTSTART:20240101T000000
END:STANDARD
END:VTIMEZONE
BEGIN:VEVENT
DTSTART;TZID=UTC:20250414T163000
DTEND;TZID=UTC:20250414T173000
DTSTAMP:20260425T110019
CREATED:20250404T195740Z
LAST-MODIFIED:20250404T195740Z
UID:10000048-1744648200-1744651800@www.missionroyalegolfclub.com
SUMMARY:Sip and Chip
DESCRIPTION:Register in pro shop\, $20 per session
URL:https://www.missionroyalegolfclub.com/event/sip-and-chip/2025-04-14/
END:VEVENT
BEGIN:VEVENT
DTSTART;TZID=UTC:20250412T160000
DTEND;TZID=UTC:20250412T190000
DTSTAMP:20260425T110019
CREATED:20250409T223523Z
LAST-MODIFIED:20250409T223523Z
UID:10000057-1744473600-1744484400@www.missionroyalegolfclub.com
SUMMARY:Steak Night
DESCRIPTION:
URL:https://www.missionroyalegolfclub.com/event/steak-night/2025-04-12/
END:VEVENT
BEGIN:VEVENT
DTSTART;TZID=UTC:20250412T070000
DTEND;TZID=UTC:20250412T140000
DTSTAMP:20260425T110019
CREATED:20250404T200056Z
LAST-MODIFIED:20250404T200056Z
UID:10000050-1744441200-1744466400@www.missionroyalegolfclub.com
SUMMARY:Vista Grande Tournament
DESCRIPTION:7am registration\, 8am shotgun. Lunch in the grille after tournament.
URL:https://www.missionroyalegolfclub.com/event/vista-grande-tournament/
END:VEVENT
BEGIN:VEVENT
DTSTART;TZID=UTC:20250411T110000
DTEND;TZID=UTC:20250411T190000
DTSTAMP:20260425T110020
CREATED:20250404T200813Z
LAST-MODIFIED:20250404T200813Z
UID:10000053-1744369200-1744398000@www.missionroyalegolfclub.com
SUMMARY:Fish Fry Friday!
DESCRIPTION:
URL:https://www.missionroyalegolfclub.com/event/fish-fry-friday-7/2025-04-11/
END:VEVENT
BEGIN:VEVENT
DTSTART;TZID=UTC:20250409T173000
DTEND;TZID=UTC:20250409T193000
DTSTAMP:20260425T110020
CREATED:20250404T195346Z
LAST-MODIFIED:20250404T195346Z
UID:10000046-1744219800-1744227000@www.missionroyalegolfclub.com
SUMMARY:Trivia Night!
DESCRIPTION:
URL:https://www.missionroyalegolfclub.com/event/trivia-night-5/
END:VEVENT
BEGIN:VEVENT
DTSTART;TZID=UTC:20250407T163000
DTEND;TZID=UTC:20250407T173000
DTSTAMP:20260425T110020
CREATED:20250404T195740Z
LAST-MODIFIED:20250404T195740Z
UID:10000047-1744043400-1744047000@www.missionroyalegolfclub.com
SUMMARY:Sip and Chip
DESCRIPTION:Register in pro shop\, $20 per session
URL:https://www.missionroyalegolfclub.com/event/sip-and-chip/2025-04-07/
END:VEVENT
BEGIN:VEVENT
DTSTART;TZID=UTC:20250405T070000
DTEND;TZID=UTC:20250405T140000
DTSTAMP:20260425T110020
CREATED:20250404T195241Z
LAST-MODIFIED:20250404T195241Z
UID:10000045-1743836400-1743861600@www.missionroyalegolfclub.com
SUMMARY:St. Anthony's Tournament
DESCRIPTION:Registration at 7am\, shotgun at 8am
URL:https://www.missionroyalegolfclub.com/event/st-anthonys-tournament/
END:VEVENT
BEGIN:VEVENT
DTSTART;TZID=UTC:20250329T163000
DTEND;TZID=UTC:20250329T193000
DTSTAMP:20260425T110020
CREATED:20250307T205730Z
LAST-MODIFIED:20250307T205730Z
UID:10000040-1743265800-1743276600@www.missionroyalegolfclub.com
SUMMARY:Karaoke Night
DESCRIPTION:
URL:https://www.missionroyalegolfclub.com/event/karaoke-night-4/
END:VEVENT
BEGIN:VEVENT
DTSTART;TZID=UTC:20250328T110000
DTEND;TZID=UTC:20250328T190000
DTSTAMP:20260425T110020
CREATED:20250307T205921Z
LAST-MODIFIED:20250307T205921Z
UID:10000042-1743159600-1743188400@www.missionroyalegolfclub.com
SUMMARY:Fish Fry Friday!
DESCRIPTION:
URL:https://www.missionroyalegolfclub.com/event/fish-fry-friday-6/
END:VEVENT
BEGIN:VEVENT
DTSTART;TZID=UTC:20250327T150000
DTEND;TZID=UTC:20250327T170000
DTSTAMP:20260425T110020
CREATED:20250307T205638Z
LAST-MODIFIED:20250307T205638Z
UID:10000039-1743087600-1743094800@www.missionroyalegolfclub.com
SUMMARY:Elite Realty Meet and Greet
DESCRIPTION:
URL:https://www.missionroyalegolfclub.com/event/elite-realty-meet-and-greet/
END:VEVENT
BEGIN:VEVENT
DTSTART;TZID=UTC:20250327T130000
DTEND;TZID=UTC:20250327T150000
DTSTAMP:20260425T110020
CREATED:20250307T210046Z
LAST-MODIFIED:20250307T210046Z
UID:10000044-1743080400-1743087600@www.missionroyalegolfclub.com
SUMMARY:Robson Interclub Luncheon
DESCRIPTION:
URL:https://www.missionroyalegolfclub.com/event/robson-interclub-luncheon/
END:VEVENT
BEGIN:VEVENT
DTSTART;TZID=UTC:20250320T130000
DTEND;TZID=UTC:20250320T150000
DTSTAMP:20260425T110020
CREATED:20250307T210005Z
LAST-MODIFIED:20250307T210005Z
UID:10000043-1742475600-1742482800@www.missionroyalegolfclub.com
SUMMARY:Annual Men's Luncheon
DESCRIPTION:
URL:https://www.missionroyalegolfclub.com/event/annual-mens-luncheon/
END:VEVENT
BEGIN:VEVENT
DTSTART;TZID=UTC:20250317T110000
DTEND;TZID=UTC:20250317T190000
DTSTAMP:20260425T110020
CREATED:20250107T223837Z
LAST-MODIFIED:20250107T223938Z
UID:10000027-1742209200-1742238000@www.missionroyalegolfclub.com
SUMMARY:St Patrick's Day
DESCRIPTION:
URL:https://www.missionroyalegolfclub.com/event/super-bowl-watch-party/
END:VEVENT
BEGIN:VEVENT
DTSTART;TZID=UTC:20250314T110000
DTEND;TZID=UTC:20250314T190000
DTSTAMP:20260425T110020
CREATED:20250307T205833Z
LAST-MODIFIED:20250307T205833Z
UID:10000041-1741950000-1741978800@www.missionroyalegolfclub.com
SUMMARY:Fish Fry Friday!
DESCRIPTION:
URL:https://www.missionroyalegolfclub.com/event/fish-fry-friday-5/
END:VEVENT
BEGIN:VEVENT
DTSTART;TZID=UTC:20250312T173000
DTEND;TZID=UTC:20250312T193000
DTSTAMP:20260425T110020
CREATED:20250224T190042Z
LAST-MODIFIED:20250224T190111Z
UID:10000037-1741800600-1741807800@www.missionroyalegolfclub.com
SUMMARY:Trivia Night!
DESCRIPTION:
URL:https://www.missionroyalegolfclub.com/event/trivia-night-4/
END:VEVENT
BEGIN:VEVENT
DTSTART;TZID=UTC:20250306T130000
DTEND;TZID=UTC:20250306T193000
DTSTAMP:20260425T110020
CREATED:20250107T214028Z
LAST-MODIFIED:20250107T214028Z
UID:10000025-1741266000-1741289400@www.missionroyalegolfclub.com
SUMMARY:Members Tournament
DESCRIPTION:
URL:https://www.missionroyalegolfclub.com/event/members-tournament/
END:VEVENT
BEGIN:VEVENT
DTSTART;TZID=UTC:20250227T150000
DTEND;TZID=UTC:20250227T170000
DTSTAMP:20260425T110020
CREATED:20250201T214658Z
LAST-MODIFIED:20250201T214658Z
UID:10000033-1740668400-1740675600@www.missionroyalegolfclub.com
SUMMARY:Elite Real Estate Meet and Greet
DESCRIPTION:
URL:https://www.missionroyalegolfclub.com/event/elite-real-estate-meet-and-greet/
END:VEVENT
BEGIN:VEVENT
DTSTART;TZID=UTC:20250225T080000
DTEND;TZID=UTC:20250225T133000
DTSTAMP:20260425T110020
CREATED:20250107T214159Z
LAST-MODIFIED:20250107T220546Z
UID:10000026-1740470400-1740490200@www.missionroyalegolfclub.com
SUMMARY:Ladies Invitational
DESCRIPTION:
URL:https://www.missionroyalegolfclub.com/event/ladies-invitational/
END:VEVENT
BEGIN:VEVENT
DTSTART;TZID=UTC:20250222T163000
DTEND;TZID=UTC:20250222T193000
DTSTAMP:20260425T110020
CREATED:20250207T212523Z
LAST-MODIFIED:20250207T212523Z
UID:10000036-1740241800-1740252600@www.missionroyalegolfclub.com
SUMMARY:Karaoke Night!
DESCRIPTION:
URL:https://www.missionroyalegolfclub.com/event/karaoke-night-3/
END:VEVENT
BEGIN:VEVENT
DTSTART;TZID=UTC:20250221T110000
DTEND;TZID=UTC:20250221T190000
DTSTAMP:20260425T110020
CREATED:20250201T214211Z
LAST-MODIFIED:20250201T214219Z
UID:10000031-1740135600-1740164400@www.missionroyalegolfclub.com
SUMMARY:Fish Fry Friday!
DESCRIPTION:
URL:https://www.missionroyalegolfclub.com/event/fish-fry-friday-4/
END:VEVENT
BEGIN:VEVENT
DTSTART;TZID=UTC:20250221T100000
DTEND;TZID=UTC:20250221T130000
DTSTAMP:20260425T110020
CREATED:20241220T203403Z
LAST-MODIFIED:20241220T203403Z
UID:10000016-1740132000-1740142800@www.missionroyalegolfclub.com
SUMMARY:Wilson Golf Demo Day
DESCRIPTION:Event: Wilson Golf  Demo Day \nLocation: Mission Royale Golf Club – Driving Range \nDate: February 21st\, 2025 \nTime: 10:00am to 1:00pm
URL:https://www.missionroyalegolfclub.com/event/wilson-golf-demo-day/
LOCATION:Mission Royale Driving Range\, 11 S Mission Pkwy Building !\, Casa Grande\, AZ\, 85194\, United States
END:VEVENT
BEGIN:VEVENT
DTSTART;TZID=UTC:20250214T150000
DTEND;TZID=UTC:20250214T190000
DTSTAMP:20260425T110020
CREATED:20250201T215725Z
LAST-MODIFIED:20250201T215725Z
UID:10000034-1739545200-1739559600@www.missionroyalegolfclub.com
SUMMARY:Valentines Day!
DESCRIPTION:
URL:https://www.missionroyalegolfclub.com/event/valentines-day/
END:VEVENT
BEGIN:VEVENT
DTSTART;TZID=UTC:20250209T160000
DTEND;TZID=UTC:20250209T200000
DTSTAMP:20260425T110020
CREATED:20250107T224120Z
LAST-MODIFIED:20250201T215801Z
UID:10000028-1739116800-1739131200@www.missionroyalegolfclub.com
SUMMARY:Super Bowl Watch Party
DESCRIPTION:
URL:https://www.missionroyalegolfclub.com/event/super-bowl-watch-party-2/
END:VEVENT
BEGIN:VEVENT
DTSTART;TZID=UTC:20250207T110000
DTEND;TZID=UTC:20250207T190000
DTSTAMP:20260425T110020
CREATED:20250201T214134Z
LAST-MODIFIED:20250201T214134Z
UID:10000030-1738926000-1738954800@www.missionroyalegolfclub.com
SUMMARY:Fish Fry Friday!
DESCRIPTION:
URL:https://www.missionroyalegolfclub.com/event/fish-fry-friday-3/
END:VEVENT
BEGIN:VEVENT
DTSTART;TZID=UTC:20250206T090000
DTEND;TZID=UTC:20250206T140000
DTSTAMP:20260425T110020
CREATED:20250201T212750Z
LAST-MODIFIED:20250201T214019Z
UID:10000029-1738832400-1738850400@www.missionroyalegolfclub.com
SUMMARY:Can-Am Mens Tournament
DESCRIPTION:
URL:https://www.missionroyalegolfclub.com/event/can-am-mens-tournament/
END:VEVENT
BEGIN:VEVENT
DTSTART;TZID=UTC:20250205T173000
DTEND;TZID=UTC:20250205T193000
DTSTAMP:20260425T110020
CREATED:20250201T214409Z
LAST-MODIFIED:20250201T214409Z
UID:10000032-1738776600-1738783800@www.missionroyalegolfclub.com
SUMMARY:Trivia Night!
DESCRIPTION:
URL:https://www.missionroyalegolfclub.com/event/trivia-night-3/
END:VEVENT
BEGIN:VEVENT
DTSTART;TZID=UTC:20250204T090000
DTEND;TZID=UTC:20250204T143000
DTSTAMP:20260425T110020
CREATED:20250107T213757Z
LAST-MODIFIED:20250201T212732Z
UID:10000023-1738659600-1738679400@www.missionroyalegolfclub.com
SUMMARY:Can-Am Ladies Tournament
DESCRIPTION:
URL:https://www.missionroyalegolfclub.com/event/can-am-tournament/
END:VEVENT
BEGIN:VEVENT
DTSTART;TZID=UTC:20250125T163000
DTEND;TZID=UTC:20250125T193000
DTSTAMP:20260425T110020
CREATED:20241222T175816Z
LAST-MODIFIED:20241222T175816Z
UID:10000018-1737822600-1737833400@www.missionroyalegolfclub.com
SUMMARY:Karaoke Night!
DESCRIPTION:
URL:https://www.missionroyalegolfclub.com/event/karaoke-night-2/
LOCATION:Mission Grille\, 11 Mission PKWY\, Casa Grande\, AZ\, 85194\, United States
END:VEVENT
BEGIN:VEVENT
DTSTART;TZID=UTC:20250124T110000
DTEND;TZID=UTC:20250124T190000
DTSTAMP:20260425T110020
CREATED:20241227T213319Z
LAST-MODIFIED:20241227T213319Z
UID:10000022-1737716400-1737745200@www.missionroyalegolfclub.com
SUMMARY:Fish fry Friday
DESCRIPTION:
URL:https://www.missionroyalegolfclub.com/event/fish-fry-friday-2/
END:VEVENT
BEGIN:VEVENT
DTSTART;TZID=UTC:20250122T163000
DTEND;TZID=UTC:20250122T193000
DTSTAMP:20260425T110020
CREATED:20241222T181321Z
LAST-MODIFIED:20241222T181321Z
UID:10000020-1737563400-1737574200@www.missionroyalegolfclub.com
SUMMARY:Ladies 9 Hole League Dinner
DESCRIPTION:
URL:https://www.missionroyalegolfclub.com/event/ladies-9-hole-league-dinner/
END:VEVENT
END:VCALENDAR