BEGIN:VCALENDAR
VERSION:2.0
PRODID:-//Mission Royale Golf Club - ECPv6.15.18//NONSGML v1.0//EN
CALSCALE:GREGORIAN
METHOD:PUBLISH
X-WR-CALNAME:Mission Royale Golf Club
X-ORIGINAL-URL:https://www.missionroyalegolfclub.com
X-WR-CALDESC:Events for Mission Royale Golf Club
REFRESH-INTERVAL;VALUE=DURATION:PT1H
X-Robots-Tag:noindex
X-PUBLISHED-TTL:PT1H
BEGIN:VTIMEZONE
TZID:UTC
BEGIN:STANDARD
TZOFFSETFROM:+0000
TZOFFSETTO:+0000
TZNAME:UTC
DTSTART:20240101T000000
END:STANDARD
END:VTIMEZONE
BEGIN:VEVENT
DTSTART;TZID=UTC:20250701T160000
DTEND;TZID=UTC:20250701T190000
DTSTAMP:20260425T010832
CREATED:20250630T000354Z
LAST-MODIFIED:20250630T000354Z
UID:10000075-1751385600-1751396400@www.missionroyalegolfclub.com
SUMMARY:Taco Tuesday
DESCRIPTION:
URL:https://www.missionroyalegolfclub.com/event/taco-tuesday-2/
END:VEVENT
BEGIN:VEVENT
DTSTART;TZID=UTC:20250709T173000
DTEND;TZID=UTC:20250709T193000
DTSTAMP:20260425T010832
CREATED:20250630T000443Z
LAST-MODIFIED:20250630T000443Z
UID:10000076-1752082200-1752089400@www.missionroyalegolfclub.com
SUMMARY:Trivia Night
DESCRIPTION:
URL:https://www.missionroyalegolfclub.com/event/trivia-night-8/
END:VEVENT
BEGIN:VEVENT
DTSTART;TZID=UTC:20250711T120000
DTEND;TZID=UTC:20250711T190000
DTSTAMP:20260425T010832
CREATED:20250630T000508Z
LAST-MODIFIED:20250630T000508Z
UID:10000077-1752235200-1752260400@www.missionroyalegolfclub.com
SUMMARY:Fish Fry Friday
DESCRIPTION:
URL:https://www.missionroyalegolfclub.com/event/fish-fry-friday-9/
END:VEVENT
BEGIN:VEVENT
DTSTART;TZID=UTC:20250712T163000
DTEND;TZID=UTC:20250712T193000
DTSTAMP:20260425T010832
CREATED:20250630T000546Z
LAST-MODIFIED:20250630T000546Z
UID:10000078-1752337800-1752348600@www.missionroyalegolfclub.com
SUMMARY:Karaoke
DESCRIPTION:
URL:https://www.missionroyalegolfclub.com/event/karaoke/
END:VEVENT
BEGIN:VEVENT
DTSTART;TZID=UTC:20250716T160000
DTEND;TZID=UTC:20250716T190000
DTSTAMP:20260425T010832
CREATED:20250630T000617Z
LAST-MODIFIED:20250630T000617Z
UID:10000079-1752681600-1752692400@www.missionroyalegolfclub.com
SUMMARY:Pasta Night
DESCRIPTION:
URL:https://www.missionroyalegolfclub.com/event/pasta-night-2/
END:VEVENT
BEGIN:VEVENT
DTSTART;TZID=UTC:20250719T160000
DTEND;TZID=UTC:20250719T190000
DTSTAMP:20260425T010832
CREATED:20250630T000659Z
LAST-MODIFIED:20250630T000659Z
UID:10000080-1752940800-1752951600@www.missionroyalegolfclub.com
SUMMARY:Burger Night
DESCRIPTION:
URL:https://www.missionroyalegolfclub.com/event/burger-night-3/
END:VEVENT
BEGIN:VEVENT
DTSTART;TZID=UTC:20250722T160000
DTEND;TZID=UTC:20250722T190000
DTSTAMP:20260425T010832
CREATED:20250630T000737Z
LAST-MODIFIED:20250630T000737Z
UID:10000081-1753200000-1753210800@www.missionroyalegolfclub.com
SUMMARY:Taco Tuesday
DESCRIPTION:
URL:https://www.missionroyalegolfclub.com/event/taco-tuesday-3/
END:VEVENT
BEGIN:VEVENT
DTSTART;TZID=UTC:20250725T120000
DTEND;TZID=UTC:20250725T190000
DTSTAMP:20260425T010832
CREATED:20250630T000818Z
LAST-MODIFIED:20250630T000818Z
UID:10000082-1753444800-1753470000@www.missionroyalegolfclub.com
SUMMARY:Fish Fry Friday
DESCRIPTION:
URL:https://www.missionroyalegolfclub.com/event/fish-fry-friday-10/
END:VEVENT
BEGIN:VEVENT
DTSTART;TZID=UTC:20250727T163000
DTEND;TZID=UTC:20250727T193000
DTSTAMP:20260425T010832
CREATED:20250630T000849Z
LAST-MODIFIED:20250630T000849Z
UID:10000083-1753633800-1753644600@www.missionroyalegolfclub.com
SUMMARY:Karaoke
DESCRIPTION:
URL:https://www.missionroyalegolfclub.com/event/karaoke-2/
END:VEVENT
END:VCALENDAR