BEGIN:VCALENDAR
VERSION:2.0
PRODID:-//Mission Royale Golf Club - ECPv6.15.18//NONSGML v1.0//EN
CALSCALE:GREGORIAN
METHOD:PUBLISH
X-ORIGINAL-URL:https://www.missionroyalegolfclub.com
X-WR-CALDESC:Events for Mission Royale Golf Club
REFRESH-INTERVAL;VALUE=DURATION:PT1H
X-Robots-Tag:noindex
X-PUBLISHED-TTL:PT1H
BEGIN:VTIMEZONE
TZID:UTC
BEGIN:STANDARD
TZOFFSETFROM:+0000
TZOFFSETTO:+0000
TZNAME:UTC
DTSTART:20250101T000000
END:STANDARD
END:VTIMEZONE
BEGIN:VEVENT
DTSTART;TZID=UTC:20260317T120000
DTEND;TZID=UTC:20260317T190000
DTSTAMP:20260425T140115
CREATED:20260228T213927Z
LAST-MODIFIED:20260312T182258Z
UID:10000188-1773748800-1773774000@www.missionroyalegolfclub.com
SUMMARY:St. Patrick's Day
DESCRIPTION:
URL:https://www.missionroyalegolfclub.com/event/st-patricks-day/
END:VEVENT
BEGIN:VEVENT
DTSTART;TZID=UTC:20260318T110000
DTEND;TZID=UTC:20260318T140000
DTSTAMP:20260425T140116
CREATED:20260228T214003Z
LAST-MODIFIED:20260228T214003Z
UID:10000189-1773831600-1773842400@www.missionroyalegolfclub.com
SUMMARY:MMM Luncheon
DESCRIPTION:
URL:https://www.missionroyalegolfclub.com/event/mmm-luncheon/
END:VEVENT
BEGIN:VEVENT
DTSTART;TZID=UTC:20260318T173000
DTEND;TZID=UTC:20260318T193000
DTSTAMP:20260425T140116
CREATED:20260228T214027Z
LAST-MODIFIED:20260228T214027Z
UID:10000190-1773855000-1773862200@www.missionroyalegolfclub.com
SUMMARY:Trivia Night
DESCRIPTION:
URL:https://www.missionroyalegolfclub.com/event/trivia-night-13/
END:VEVENT
BEGIN:VEVENT
DTSTART;TZID=UTC:20260321T120000
DTEND;TZID=UTC:20260321T143000
DTSTAMP:20260425T140116
CREATED:20260204T173830Z
LAST-MODIFIED:20260228T213255Z
UID:10000127-1774094400-1774103400@www.missionroyalegolfclub.com
SUMMARY:Queen of Hearts
DESCRIPTION:
URL:https://www.missionroyalegolfclub.com/event/queen-of-hearts/2026-03-21/
END:VEVENT
BEGIN:VEVENT
DTSTART;TZID=UTC:20260322T180000
DTEND;TZID=UTC:20260322T193000
DTSTAMP:20260425T140116
CREATED:20260228T214110Z
LAST-MODIFIED:20260228T214110Z
UID:10000191-1774202400-1774207800@www.missionroyalegolfclub.com
SUMMARY:Potlickers Dinner
DESCRIPTION:
URL:https://www.missionroyalegolfclub.com/event/potlickers-dinner-2/
END:VEVENT
BEGIN:VEVENT
DTSTART;TZID=UTC:20260324T110000
DTEND;TZID=UTC:20260324T133000
DTSTAMP:20260425T140116
CREATED:20260228T214252Z
LAST-MODIFIED:20260228T214252Z
UID:10000192-1774350000-1774359000@www.missionroyalegolfclub.com
SUMMARY:Men's Club Luncheon
DESCRIPTION:
URL:https://www.missionroyalegolfclub.com/event/mens-club-luncheon/
END:VEVENT
BEGIN:VEVENT
DTSTART;TZID=UTC:20260325T160000
DTEND;TZID=UTC:20260325T180000
DTSTAMP:20260425T140116
CREATED:20260228T214444Z
LAST-MODIFIED:20260228T214444Z
UID:10000193-1774454400-1774461600@www.missionroyalegolfclub.com
SUMMARY:Ladies 9 Hole League Dinner
DESCRIPTION:
URL:https://www.missionroyalegolfclub.com/event/ladies-9-hole-league-dinner-4/
END:VEVENT
BEGIN:VEVENT
DTSTART;TZID=UTC:20260326T150000
DTEND;TZID=UTC:20260326T170000
DTSTAMP:20260425T140116
CREATED:20260228T214519Z
LAST-MODIFIED:20260228T214519Z
UID:10000194-1774537200-1774544400@www.missionroyalegolfclub.com
SUMMARY:Elite Realty Meet and Greet
DESCRIPTION:
URL:https://www.missionroyalegolfclub.com/event/elite-realty-meet-and-greet-4/
END:VEVENT
BEGIN:VEVENT
DTSTART;TZID=UTC:20260328T120000
DTEND;TZID=UTC:20260328T143000
DTSTAMP:20260425T140116
CREATED:20260204T173830Z
LAST-MODIFIED:20260228T213255Z
UID:10000128-1774699200-1774708200@www.missionroyalegolfclub.com
SUMMARY:Queen of Hearts
DESCRIPTION:
URL:https://www.missionroyalegolfclub.com/event/queen-of-hearts/2026-03-28/
END:VEVENT
BEGIN:VEVENT
DTSTART;TZID=UTC:20260403T120000
DTEND;TZID=UTC:20260403T190000
DTSTAMP:20260425T140116
CREATED:20260326T172324Z
LAST-MODIFIED:20260403T182142Z
UID:10000195-1775217600-1775242800@www.missionroyalegolfclub.com
SUMMARY:Fish Fry Friday
DESCRIPTION:
URL:https://www.missionroyalegolfclub.com/event/fish-fry-friday-17/
END:VEVENT
BEGIN:VEVENT
DTSTART;TZID=UTC:20260403T160000
DTEND;TZID=UTC:20260403T180000
DTSTAMP:20260425T140116
CREATED:20260403T184653Z
LAST-MODIFIED:20260403T184653Z
UID:10000197-1775232000-1775239200@www.missionroyalegolfclub.com
SUMMARY:Alternate Shot End of Year Party
DESCRIPTION:
URL:https://www.missionroyalegolfclub.com/event/alternate-shot-end-of-year-party/
END:VEVENT
BEGIN:VEVENT
DTSTART;TZID=UTC:20260410T160000
DTEND;TZID=UTC:20260410T190000
DTSTAMP:20260425T140116
CREATED:20260403T184307Z
LAST-MODIFIED:20260403T184307Z
UID:10000196-1775836800-1775847600@www.missionroyalegolfclub.com
SUMMARY:Steak Night
DESCRIPTION:
URL:https://www.missionroyalegolfclub.com/event/steak-night-5/
END:VEVENT
BEGIN:VEVENT
DTSTART;TZID=UTC:20260415T173000
DTEND;TZID=UTC:20260415T193000
DTSTAMP:20260425T140116
CREATED:20260403T184745Z
LAST-MODIFIED:20260403T184745Z
UID:10000198-1776274200-1776281400@www.missionroyalegolfclub.com
SUMMARY:Trivia Night
DESCRIPTION:
URL:https://www.missionroyalegolfclub.com/event/trivia-night-15/
END:VEVENT
BEGIN:VEVENT
DTSTART;TZID=UTC:20260417T120000
DTEND;TZID=UTC:20260417T190000
DTSTAMP:20260425T140116
CREATED:20260403T184827Z
LAST-MODIFIED:20260403T184827Z
UID:10000199-1776427200-1776452400@www.missionroyalegolfclub.com
SUMMARY:Fish Fry
DESCRIPTION:
URL:https://www.missionroyalegolfclub.com/event/fish-fry-4/
END:VEVENT
BEGIN:VEVENT
DTSTART;TZID=UTC:20260424T163000
DTEND;TZID=UTC:20260424T193000
DTSTAMP:20260425T140116
CREATED:20260403T184906Z
LAST-MODIFIED:20260403T184906Z
UID:10000200-1777048200-1777059000@www.missionroyalegolfclub.com
SUMMARY:Karaoke Night
DESCRIPTION:
URL:https://www.missionroyalegolfclub.com/event/karaoke-night-14/
END:VEVENT
BEGIN:VEVENT
DTSTART;VALUE=DATE:20260425
DTEND;VALUE=DATE:20260426
DTSTAMP:20260425T140116
CREATED:20260403T185148Z
LAST-MODIFIED:20260403T191316Z
UID:10000201-1777075200-1777161599@www.missionroyalegolfclub.com
SUMMARY:Saint Anthony of Padua Tournament
DESCRIPTION:
URL:https://www.missionroyalegolfclub.com/event/saint-anthony-of-padua-tournament/
END:VEVENT
BEGIN:VEVENT
DTSTART;TZID=UTC:20260430T150000
DTEND;TZID=UTC:20260430T170000
DTSTAMP:20260425T140116
CREATED:20260403T185228Z
LAST-MODIFIED:20260403T185228Z
UID:10000202-1777561200-1777568400@www.missionroyalegolfclub.com
SUMMARY:Elite Realty Meet and Greet
DESCRIPTION:
URL:https://www.missionroyalegolfclub.com/event/elite-realty-meet-and-greet-5/
END:VEVENT
END:VCALENDAR