BEGIN:VCALENDAR
VERSION:2.0
PRODID:-//Mission Royale Golf Club - ECPv6.15.18//NONSGML v1.0//EN
CALSCALE:GREGORIAN
METHOD:PUBLISH
X-ORIGINAL-URL:https://www.missionroyalegolfclub.com
X-WR-CALDESC:Events for Mission Royale Golf Club
REFRESH-INTERVAL;VALUE=DURATION:PT1H
X-Robots-Tag:noindex
X-PUBLISHED-TTL:PT1H
BEGIN:VTIMEZONE
TZID:UTC
BEGIN:STANDARD
TZOFFSETFROM:+0000
TZOFFSETTO:+0000
TZNAME:UTC
DTSTART:20240101T000000
END:STANDARD
END:VTIMEZONE
BEGIN:VEVENT
DTSTART;TZID=UTC:20250813T173000
DTEND;TZID=UTC:20250813T193000
DTSTAMP:20260425T134412
CREATED:20250808T195237Z
LAST-MODIFIED:20250808T195237Z
UID:10000084-1755106200-1755113400@www.missionroyalegolfclub.com
SUMMARY:Trivia Night
DESCRIPTION:
URL:https://www.missionroyalegolfclub.com/event/trivia-night-9/
END:VEVENT
BEGIN:VEVENT
DTSTART;TZID=UTC:20250822T163000
DTEND;TZID=UTC:20250822T193000
DTSTAMP:20260425T134412
CREATED:20250808T195334Z
LAST-MODIFIED:20250808T195334Z
UID:10000085-1755880200-1755891000@www.missionroyalegolfclub.com
SUMMARY:Karaoke Night
DESCRIPTION:
URL:https://www.missionroyalegolfclub.com/event/karaoke-night-8/
END:VEVENT
BEGIN:VEVENT
DTSTART;TZID=UTC:20250917T173000
DTEND;TZID=UTC:20250917T193000
DTSTAMP:20260425T134412
CREATED:20250901T191325Z
LAST-MODIFIED:20250901T191325Z
UID:10000086-1758130200-1758137400@www.missionroyalegolfclub.com
SUMMARY:Trivia Night
DESCRIPTION:
URL:https://www.missionroyalegolfclub.com/event/trivia-night-10/
END:VEVENT
BEGIN:VEVENT
DTSTART;TZID=UTC:20250926T163000
DTEND;TZID=UTC:20250926T193000
DTSTAMP:20260425T134412
CREATED:20250901T191420Z
LAST-MODIFIED:20250901T191420Z
UID:10000087-1758904200-1758915000@www.missionroyalegolfclub.com
SUMMARY:Karaoke Night
DESCRIPTION:
URL:https://www.missionroyalegolfclub.com/event/karaoke-night-9/
END:VEVENT
BEGIN:VEVENT
DTSTART;TZID=UTC:20251015T173000
DTEND;TZID=UTC:20251015T193000
DTSTAMP:20260425T134412
CREATED:20251014T231310Z
LAST-MODIFIED:20251014T231342Z
UID:10000088-1760549400-1760556600@www.missionroyalegolfclub.com
SUMMARY:Trivia Night
DESCRIPTION:
URL:https://www.missionroyalegolfclub.com/event/trivia-night-11/
END:VEVENT
BEGIN:VEVENT
DTSTART;TZID=UTC:20251017T163000
DTEND;TZID=UTC:20251017T193000
DTSTAMP:20260425T134412
CREATED:20251014T231452Z
LAST-MODIFIED:20251014T231452Z
UID:10000089-1760718600-1760729400@www.missionroyalegolfclub.com
SUMMARY:Karaoke Night
DESCRIPTION:
URL:https://www.missionroyalegolfclub.com/event/karaoke-night-10/
END:VEVENT
BEGIN:VEVENT
DTSTART;TZID=UTC:20251106T083000
DTEND;TZID=UTC:20251106T150000
DTSTAMP:20260425T134412
CREATED:20251027T183520Z
LAST-MODIFIED:20251027T183520Z
UID:10000090-1762417800-1762441200@www.missionroyalegolfclub.com
SUMMARY:Central Arizona College Tournament
DESCRIPTION:
URL:https://www.missionroyalegolfclub.com/event/central-arizona-college-tournament/
END:VEVENT
BEGIN:VEVENT
DTSTART;TZID=UTC:20251107T080000
DTEND;TZID=UTC:20251107T150000
DTSTAMP:20260425T134412
CREATED:20251027T183624Z
LAST-MODIFIED:20251027T183624Z
UID:10000091-1762502400-1762527600@www.missionroyalegolfclub.com
SUMMARY:Casa Grande Chamber of Commerce Tournament
DESCRIPTION:
URL:https://www.missionroyalegolfclub.com/event/casa-grande-chamber-of-commerce-tournament/
END:VEVENT
BEGIN:VEVENT
DTSTART;TZID=UTC:20251112T170000
DTEND;TZID=UTC:20251112T200000
DTSTAMP:20260425T134412
CREATED:20251027T183732Z
LAST-MODIFIED:20251027T183732Z
UID:10000092-1762966800-1762977600@www.missionroyalegolfclub.com
SUMMARY:Burger Night
DESCRIPTION:
URL:https://www.missionroyalegolfclub.com/event/burger-night-4/
END:VEVENT
BEGIN:VEVENT
DTSTART;TZID=UTC:20251114T140000
DTEND;TZID=UTC:20251114T160000
DTSTAMP:20260425T134412
CREATED:20251027T184006Z
LAST-MODIFIED:20251027T184006Z
UID:10000094-1763128800-1763136000@www.missionroyalegolfclub.com
SUMMARY:Fall Festival
DESCRIPTION:
URL:https://www.missionroyalegolfclub.com/event/fall-festival-2/
END:VEVENT
BEGIN:VEVENT
DTSTART;TZID=UTC:20251119T173000
DTEND;TZID=UTC:20251119T193000
DTSTAMP:20260425T134412
CREATED:20251027T183807Z
LAST-MODIFIED:20251027T183921Z
UID:10000093-1763573400-1763580600@www.missionroyalegolfclub.com
SUMMARY:Trivia Night
DESCRIPTION:
URL:https://www.missionroyalegolfclub.com/event/fall-festival/
END:VEVENT
BEGIN:VEVENT
DTSTART;TZID=UTC:20251121T120000
DTEND;TZID=UTC:20251121T190000
DTSTAMP:20260425T134412
CREATED:20251027T184212Z
LAST-MODIFIED:20251027T184212Z
UID:10000095-1763726400-1763751600@www.missionroyalegolfclub.com
SUMMARY:Fish Fry
DESCRIPTION:
URL:https://www.missionroyalegolfclub.com/event/fish-fry-3/
END:VEVENT
BEGIN:VEVENT
DTSTART;TZID=UTC:20251205T120000
DTEND;TZID=UTC:20251205T190000
DTSTAMP:20260425T134412
CREATED:20251203T171132Z
LAST-MODIFIED:20251203T173317Z
UID:10000098-1764936000-1764961200@www.missionroyalegolfclub.com
SUMMARY:Fish Fry Friday
DESCRIPTION:
URL:https://www.missionroyalegolfclub.com/event/fish-fry-friday-11/
END:VEVENT
BEGIN:VEVENT
DTSTART;TZID=UTC:20251210T173000
DTEND;TZID=UTC:20251210T193000
DTSTAMP:20260425T134412
CREATED:20251203T171036Z
LAST-MODIFIED:20251203T171036Z
UID:10000097-1765387800-1765395000@www.missionroyalegolfclub.com
SUMMARY:Trivia Night
DESCRIPTION:
URL:https://www.missionroyalegolfclub.com/event/trivia-night-12/
END:VEVENT
BEGIN:VEVENT
DTSTART;TZID=UTC:20251216T133000
DTEND;TZID=UTC:20251216T153000
DTSTAMP:20260425T134412
CREATED:20251203T173205Z
LAST-MODIFIED:20251203T173253Z
UID:10000101-1765891800-1765899000@www.missionroyalegolfclub.com
SUMMARY:Ladies 18 Hole League Luncheon
DESCRIPTION:
URL:https://www.missionroyalegolfclub.com/event/ladies-18-hole-league-luncheon/
END:VEVENT
BEGIN:VEVENT
DTSTART;TZID=UTC:20251217T110000
DTEND;TZID=UTC:20251217T130000
DTSTAMP:20260425T134412
CREATED:20251203T173056Z
LAST-MODIFIED:20251210T214317Z
UID:10000100-1765969200-1765976400@www.missionroyalegolfclub.com
SUMMARY:MMM Luncheon
DESCRIPTION:
URL:https://www.missionroyalegolfclub.com/event/mens-league-luncheon/
END:VEVENT
BEGIN:VEVENT
DTSTART;TZID=UTC:20251217T160000
DTEND;TZID=UTC:20251217T180000
DTSTAMP:20260425T134412
CREATED:20251203T172056Z
LAST-MODIFIED:20251203T172056Z
UID:10000099-1765987200-1765994400@www.missionroyalegolfclub.com
SUMMARY:Ladies 9 Hole League Christmas Party
DESCRIPTION:
URL:https://www.missionroyalegolfclub.com/event/ladies-9-hole-league-christmas-party/
END:VEVENT
BEGIN:VEVENT
DTSTART;TZID=UTC:20251219T163000
DTEND;TZID=UTC:20251219T193000
DTSTAMP:20260425T134412
CREATED:20251203T170848Z
LAST-MODIFIED:20251203T170848Z
UID:10000096-1766161800-1766172600@www.missionroyalegolfclub.com
SUMMARY:Karaoke Night
DESCRIPTION:
URL:https://www.missionroyalegolfclub.com/event/karaoke-night-11/
END:VEVENT
BEGIN:VEVENT
DTSTART;VALUE=DATE:20251224
DTEND;VALUE=DATE:20251225
DTSTAMP:20260425T134412
CREATED:20251203T173454Z
LAST-MODIFIED:20251203T173454Z
UID:10000102-1766534400-1766620799@www.missionroyalegolfclub.com
SUMMARY:Christmas Eve  9am Shotgun Proshop open 7:45am-2:00pm Grille open 10:00am-4:00pm
DESCRIPTION:
URL:https://www.missionroyalegolfclub.com/event/christmas-eve-9am-shotgun-proshop-open-745am-200pm-grille-open-1000am-400pm/
END:VEVENT
BEGIN:VEVENT
DTSTART;VALUE=DATE:20251225
DTEND;VALUE=DATE:20251226
DTSTAMP:20260425T134412
CREATED:20251203T173524Z
LAST-MODIFIED:20251203T173524Z
UID:10000103-1766620800-1766707199@www.missionroyalegolfclub.com
SUMMARY:Christmas Day Course Closed
DESCRIPTION:
URL:https://www.missionroyalegolfclub.com/event/christmas-day-course-closed/
END:VEVENT
BEGIN:VEVENT
DTSTART;VALUE=DATE:20251231
DTEND;VALUE=DATE:20260101
DTSTAMP:20260425T134412
CREATED:20251205T175716Z
LAST-MODIFIED:20251205T175732Z
UID:10000104-1767139200-1767225599@www.missionroyalegolfclub.com
SUMMARY:New Years Eve Grille open 8:00AM-6:00PM
DESCRIPTION:
URL:https://www.missionroyalegolfclub.com/event/new-years-eve-grille-open-800am-600pm/
END:VEVENT
BEGIN:VEVENT
DTSTART;TZID=UTC:20260102T120000
DTEND;TZID=UTC:20260102T190000
DTSTAMP:20260425T134412
CREATED:20251230T004424Z
LAST-MODIFIED:20251230T004523Z
UID:10000113-1767355200-1767380400@www.missionroyalegolfclub.com
SUMMARY:Fish Fry Friday
DESCRIPTION:
URL:https://www.missionroyalegolfclub.com/event/fish-fry-friday-12/
END:VEVENT
BEGIN:VEVENT
DTSTART;TZID=UTC:20260109T160000
DTEND;TZID=UTC:20260109T200000
DTSTAMP:20260425T134412
CREATED:20251230T004459Z
LAST-MODIFIED:20251230T004459Z
UID:10000114-1767974400-1767988800@www.missionroyalegolfclub.com
SUMMARY:Steak Night
DESCRIPTION:
URL:https://www.missionroyalegolfclub.com/event/steak-night-3/
END:VEVENT
BEGIN:VEVENT
DTSTART;TZID=UTC:20260114T163000
DTEND;TZID=UTC:20260114T183000
DTSTAMP:20260425T134412
CREATED:20251230T004554Z
LAST-MODIFIED:20251230T004554Z
UID:10000115-1768408200-1768415400@www.missionroyalegolfclub.com
SUMMARY:Ladies 9 Hole League Dinner
DESCRIPTION:
URL:https://www.missionroyalegolfclub.com/event/ladies-9-hole-league-dinner-2/
END:VEVENT
BEGIN:VEVENT
DTSTART;TZID=UTC:20260117T150000
DTEND;TZID=UTC:20260117T173000
DTSTAMP:20260425T134412
CREATED:20251214T214052Z
LAST-MODIFIED:20251214T214052Z
UID:10000107-1768662000-1768671000@www.missionroyalegolfclub.com
SUMMARY:Taco Bar Special
DESCRIPTION:
URL:https://www.missionroyalegolfclub.com/event/taco-bar-special/
END:VEVENT
BEGIN:VEVENT
DTSTART;TZID=UTC:20260117T173000
DTEND;TZID=UTC:20260117T193000
DTSTAMP:20260425T134412
CREATED:20251214T214147Z
LAST-MODIFIED:20251214T214147Z
UID:10000108-1768671000-1768678200@www.missionroyalegolfclub.com
SUMMARY:Arizona Avenue Band
DESCRIPTION:
URL:https://www.missionroyalegolfclub.com/event/arizona-avenue-band/
END:VEVENT
BEGIN:VEVENT
DTSTART;TZID=UTC:20260121T173000
DTEND;TZID=UTC:20260121T193000
DTSTAMP:20260425T134412
CREATED:20251230T004636Z
LAST-MODIFIED:20251230T004636Z
UID:10000116-1769016600-1769023800@www.missionroyalegolfclub.com
SUMMARY:Trivia Night
DESCRIPTION:
URL:https://www.missionroyalegolfclub.com/event/trivia-night-14/
END:VEVENT
BEGIN:VEVENT
DTSTART;TZID=UTC:20260123T120000
DTEND;TZID=UTC:20260123T190000
DTSTAMP:20260425T134412
CREATED:20251214T214448Z
LAST-MODIFIED:20251214T214448Z
UID:10000111-1769169600-1769194800@www.missionroyalegolfclub.com
SUMMARY:Fish Fry Friday
DESCRIPTION:
URL:https://www.missionroyalegolfclub.com/event/fish-fry-friday-13/
END:VEVENT
BEGIN:VEVENT
DTSTART;TZID=UTC:20260130T163000
DTEND;TZID=UTC:20260130T193000
DTSTAMP:20260425T134412
CREATED:20251214T214520Z
LAST-MODIFIED:20251214T214520Z
UID:10000112-1769790600-1769801400@www.missionroyalegolfclub.com
SUMMARY:Karaoke Night
DESCRIPTION:
URL:https://www.missionroyalegolfclub.com/event/karaoke-night-12/
END:VEVENT
BEGIN:VEVENT
DTSTART;TZID=UTC:20260206T120000
DTEND;TZID=UTC:20260206T190000
DTSTAMP:20260425T134412
CREATED:20260204T173340Z
LAST-MODIFIED:20260204T173340Z
UID:10000117-1770379200-1770404400@www.missionroyalegolfclub.com
SUMMARY:Fish Fry Friday
DESCRIPTION:
URL:https://www.missionroyalegolfclub.com/event/fish-fry-friday-14/
END:VEVENT
END:VCALENDAR