BEGIN:VCALENDAR
VERSION:2.0
PRODID:-//Mission Royale Golf Club - ECPv6.15.18//NONSGML v1.0//EN
CALSCALE:GREGORIAN
METHOD:PUBLISH
X-WR-CALNAME:Mission Royale Golf Club
X-ORIGINAL-URL:https://www.missionroyalegolfclub.com
X-WR-CALDESC:Events for Mission Royale Golf Club
REFRESH-INTERVAL;VALUE=DURATION:PT1H
X-Robots-Tag:noindex
X-PUBLISHED-TTL:PT1H
BEGIN:VTIMEZONE
TZID:UTC
BEGIN:STANDARD
TZOFFSETFROM:+0000
TZOFFSETTO:+0000
TZNAME:UTC
DTSTART:20240101T000000
END:STANDARD
END:VTIMEZONE
BEGIN:VEVENT
DTSTART;TZID=UTC:20250523T120000
DTEND;TZID=UTC:20250523T190000
DTSTAMP:20260425T110550
CREATED:20250509T214722Z
LAST-MODIFIED:20250509T214722Z
UID:10000063-1748001600-1748026800@www.missionroyalegolfclub.com
SUMMARY:Fish Fry
DESCRIPTION:
URL:https://www.missionroyalegolfclub.com/event/fish-fry/
END:VEVENT
BEGIN:VEVENT
DTSTART;TZID=UTC:20250524T160000
DTEND;TZID=UTC:20250524T190000
DTSTAMP:20260425T110550
CREATED:20250516T221935Z
LAST-MODIFIED:20250516T221935Z
UID:10000065-1748102400-1748113200@www.missionroyalegolfclub.com
SUMMARY:Steak Night
DESCRIPTION:
URL:https://www.missionroyalegolfclub.com/event/steak-night-2/
END:VEVENT
BEGIN:VEVENT
DTSTART;TZID=UTC:20250531T163000
DTEND;TZID=UTC:20250531T193000
DTSTAMP:20260425T110550
CREATED:20250423T191114Z
LAST-MODIFIED:20250423T191114Z
UID:10000060-1748709000-1748719800@www.missionroyalegolfclub.com
SUMMARY:Karaoke Night
DESCRIPTION:
URL:https://www.missionroyalegolfclub.com/event/karaoke-night-6/
END:VEVENT
BEGIN:VEVENT
DTSTART;TZID=UTC:20250604T173000
DTEND;TZID=UTC:20250604T193000
DTSTAMP:20260425T110550
CREATED:20250523T224629Z
LAST-MODIFIED:20250523T224644Z
UID:10000067-1749058200-1749065400@www.missionroyalegolfclub.com
SUMMARY:Trivia Night!
DESCRIPTION:
URL:https://www.missionroyalegolfclub.com/event/trivia-night-7/
END:VEVENT
BEGIN:VEVENT
DTSTART;TZID=UTC:20250606T120000
DTEND;TZID=UTC:20250606T190000
DTSTAMP:20260425T110550
CREATED:20250523T224823Z
LAST-MODIFIED:20250523T224823Z
UID:10000068-1749211200-1749236400@www.missionroyalegolfclub.com
SUMMARY:Fish Fry Friday!
DESCRIPTION:
URL:https://www.missionroyalegolfclub.com/event/fish-fry-friday-8/
END:VEVENT
BEGIN:VEVENT
DTSTART;TZID=UTC:20250610T160000
DTEND;TZID=UTC:20250610T190000
DTSTAMP:20260425T110550
CREATED:20250604T154551Z
LAST-MODIFIED:20250604T154551Z
UID:10000070-1749571200-1749582000@www.missionroyalegolfclub.com
SUMMARY:Taco Tuesday
DESCRIPTION:
URL:https://www.missionroyalegolfclub.com/event/taco-tuesday/
END:VEVENT
BEGIN:VEVENT
DTSTART;TZID=UTC:20250613T150000
DTEND;TZID=UTC:20250613T190000
DTSTAMP:20260425T110550
CREATED:20250604T154011Z
LAST-MODIFIED:20250604T154424Z
UID:10000069-1749826800-1749841200@www.missionroyalegolfclub.com
SUMMARY:Burger Night
DESCRIPTION:
URL:https://www.missionroyalegolfclub.com/event/burger-night/
END:VEVENT
BEGIN:VEVENT
DTSTART;TZID=UTC:20250614T160000
DTEND;TZID=UTC:20250614T190000
DTSTAMP:20260425T110550
CREATED:20250607T200815Z
LAST-MODIFIED:20250607T200815Z
UID:10000073-1749916800-1749927600@www.missionroyalegolfclub.com
SUMMARY:Meatloaf Night
DESCRIPTION:
URL:https://www.missionroyalegolfclub.com/event/meatloaf-night/
END:VEVENT
BEGIN:VEVENT
DTSTART;TZID=UTC:20250620T120000
DTEND;TZID=UTC:20250620T190000
DTSTAMP:20260425T110550
CREATED:20250607T200729Z
LAST-MODIFIED:20250607T200729Z
UID:10000072-1750420800-1750446000@www.missionroyalegolfclub.com
SUMMARY:Fish Fry
DESCRIPTION:
URL:https://www.missionroyalegolfclub.com/event/fish-fry-2/
END:VEVENT
BEGIN:VEVENT
DTSTART;TZID=UTC:20250621T163000
DTEND;TZID=UTC:20250621T193000
DTSTAMP:20260425T110550
CREATED:20250607T200623Z
LAST-MODIFIED:20250607T200623Z
UID:10000071-1750523400-1750534200@www.missionroyalegolfclub.com
SUMMARY:Karaoke Night
DESCRIPTION:
URL:https://www.missionroyalegolfclub.com/event/karaoke-night-7/
END:VEVENT
BEGIN:VEVENT
DTSTART;TZID=UTC:20250628T160000
DTEND;TZID=UTC:20250628T190000
DTSTAMP:20260425T110550
CREATED:20250607T200854Z
LAST-MODIFIED:20250607T200854Z
UID:10000074-1751126400-1751137200@www.missionroyalegolfclub.com
SUMMARY:Prime Rib Night
DESCRIPTION:
URL:https://www.missionroyalegolfclub.com/event/prime-rib-night/
END:VEVENT
BEGIN:VEVENT
DTSTART;TZID=UTC:20250701T160000
DTEND;TZID=UTC:20250701T190000
DTSTAMP:20260425T110550
CREATED:20250630T000354Z
LAST-MODIFIED:20250630T000354Z
UID:10000075-1751385600-1751396400@www.missionroyalegolfclub.com
SUMMARY:Taco Tuesday
DESCRIPTION:
URL:https://www.missionroyalegolfclub.com/event/taco-tuesday-2/
END:VEVENT
BEGIN:VEVENT
DTSTART;TZID=UTC:20250709T173000
DTEND;TZID=UTC:20250709T193000
DTSTAMP:20260425T110550
CREATED:20250630T000443Z
LAST-MODIFIED:20250630T000443Z
UID:10000076-1752082200-1752089400@www.missionroyalegolfclub.com
SUMMARY:Trivia Night
DESCRIPTION:
URL:https://www.missionroyalegolfclub.com/event/trivia-night-8/
END:VEVENT
BEGIN:VEVENT
DTSTART;TZID=UTC:20250711T120000
DTEND;TZID=UTC:20250711T190000
DTSTAMP:20260425T110550
CREATED:20250630T000508Z
LAST-MODIFIED:20250630T000508Z
UID:10000077-1752235200-1752260400@www.missionroyalegolfclub.com
SUMMARY:Fish Fry Friday
DESCRIPTION:
URL:https://www.missionroyalegolfclub.com/event/fish-fry-friday-9/
END:VEVENT
BEGIN:VEVENT
DTSTART;TZID=UTC:20250712T163000
DTEND;TZID=UTC:20250712T193000
DTSTAMP:20260425T110550
CREATED:20250630T000546Z
LAST-MODIFIED:20250630T000546Z
UID:10000078-1752337800-1752348600@www.missionroyalegolfclub.com
SUMMARY:Karaoke
DESCRIPTION:
URL:https://www.missionroyalegolfclub.com/event/karaoke/
END:VEVENT
BEGIN:VEVENT
DTSTART;TZID=UTC:20250716T160000
DTEND;TZID=UTC:20250716T190000
DTSTAMP:20260425T110550
CREATED:20250630T000617Z
LAST-MODIFIED:20250630T000617Z
UID:10000079-1752681600-1752692400@www.missionroyalegolfclub.com
SUMMARY:Pasta Night
DESCRIPTION:
URL:https://www.missionroyalegolfclub.com/event/pasta-night-2/
END:VEVENT
BEGIN:VEVENT
DTSTART;TZID=UTC:20250719T160000
DTEND;TZID=UTC:20250719T190000
DTSTAMP:20260425T110550
CREATED:20250630T000659Z
LAST-MODIFIED:20250630T000659Z
UID:10000080-1752940800-1752951600@www.missionroyalegolfclub.com
SUMMARY:Burger Night
DESCRIPTION:
URL:https://www.missionroyalegolfclub.com/event/burger-night-3/
END:VEVENT
BEGIN:VEVENT
DTSTART;TZID=UTC:20250722T160000
DTEND;TZID=UTC:20250722T190000
DTSTAMP:20260425T110550
CREATED:20250630T000737Z
LAST-MODIFIED:20250630T000737Z
UID:10000081-1753200000-1753210800@www.missionroyalegolfclub.com
SUMMARY:Taco Tuesday
DESCRIPTION:
URL:https://www.missionroyalegolfclub.com/event/taco-tuesday-3/
END:VEVENT
BEGIN:VEVENT
DTSTART;TZID=UTC:20250725T120000
DTEND;TZID=UTC:20250725T190000
DTSTAMP:20260425T110550
CREATED:20250630T000818Z
LAST-MODIFIED:20250630T000818Z
UID:10000082-1753444800-1753470000@www.missionroyalegolfclub.com
SUMMARY:Fish Fry Friday
DESCRIPTION:
URL:https://www.missionroyalegolfclub.com/event/fish-fry-friday-10/
END:VEVENT
BEGIN:VEVENT
DTSTART;TZID=UTC:20250727T163000
DTEND;TZID=UTC:20250727T193000
DTSTAMP:20260425T110550
CREATED:20250630T000849Z
LAST-MODIFIED:20250630T000849Z
UID:10000083-1753633800-1753644600@www.missionroyalegolfclub.com
SUMMARY:Karaoke
DESCRIPTION:
URL:https://www.missionroyalegolfclub.com/event/karaoke-2/
END:VEVENT
BEGIN:VEVENT
DTSTART;TZID=UTC:20250813T173000
DTEND;TZID=UTC:20250813T193000
DTSTAMP:20260425T110550
CREATED:20250808T195237Z
LAST-MODIFIED:20250808T195237Z
UID:10000084-1755106200-1755113400@www.missionroyalegolfclub.com
SUMMARY:Trivia Night
DESCRIPTION:
URL:https://www.missionroyalegolfclub.com/event/trivia-night-9/
END:VEVENT
BEGIN:VEVENT
DTSTART;TZID=UTC:20250822T163000
DTEND;TZID=UTC:20250822T193000
DTSTAMP:20260425T110550
CREATED:20250808T195334Z
LAST-MODIFIED:20250808T195334Z
UID:10000085-1755880200-1755891000@www.missionroyalegolfclub.com
SUMMARY:Karaoke Night
DESCRIPTION:
URL:https://www.missionroyalegolfclub.com/event/karaoke-night-8/
END:VEVENT
BEGIN:VEVENT
DTSTART;TZID=UTC:20250917T173000
DTEND;TZID=UTC:20250917T193000
DTSTAMP:20260425T110550
CREATED:20250901T191325Z
LAST-MODIFIED:20250901T191325Z
UID:10000086-1758130200-1758137400@www.missionroyalegolfclub.com
SUMMARY:Trivia Night
DESCRIPTION:
URL:https://www.missionroyalegolfclub.com/event/trivia-night-10/
END:VEVENT
BEGIN:VEVENT
DTSTART;TZID=UTC:20250926T163000
DTEND;TZID=UTC:20250926T193000
DTSTAMP:20260425T110550
CREATED:20250901T191420Z
LAST-MODIFIED:20250901T191420Z
UID:10000087-1758904200-1758915000@www.missionroyalegolfclub.com
SUMMARY:Karaoke Night
DESCRIPTION:
URL:https://www.missionroyalegolfclub.com/event/karaoke-night-9/
END:VEVENT
BEGIN:VEVENT
DTSTART;TZID=UTC:20251015T173000
DTEND;TZID=UTC:20251015T193000
DTSTAMP:20260425T110550
CREATED:20251014T231310Z
LAST-MODIFIED:20251014T231342Z
UID:10000088-1760549400-1760556600@www.missionroyalegolfclub.com
SUMMARY:Trivia Night
DESCRIPTION:
URL:https://www.missionroyalegolfclub.com/event/trivia-night-11/
END:VEVENT
BEGIN:VEVENT
DTSTART;TZID=UTC:20251017T163000
DTEND;TZID=UTC:20251017T193000
DTSTAMP:20260425T110550
CREATED:20251014T231452Z
LAST-MODIFIED:20251014T231452Z
UID:10000089-1760718600-1760729400@www.missionroyalegolfclub.com
SUMMARY:Karaoke Night
DESCRIPTION:
URL:https://www.missionroyalegolfclub.com/event/karaoke-night-10/
END:VEVENT
BEGIN:VEVENT
DTSTART;TZID=UTC:20251106T083000
DTEND;TZID=UTC:20251106T150000
DTSTAMP:20260425T110550
CREATED:20251027T183520Z
LAST-MODIFIED:20251027T183520Z
UID:10000090-1762417800-1762441200@www.missionroyalegolfclub.com
SUMMARY:Central Arizona College Tournament
DESCRIPTION:
URL:https://www.missionroyalegolfclub.com/event/central-arizona-college-tournament/
END:VEVENT
BEGIN:VEVENT
DTSTART;TZID=UTC:20251107T080000
DTEND;TZID=UTC:20251107T150000
DTSTAMP:20260425T110550
CREATED:20251027T183624Z
LAST-MODIFIED:20251027T183624Z
UID:10000091-1762502400-1762527600@www.missionroyalegolfclub.com
SUMMARY:Casa Grande Chamber of Commerce Tournament
DESCRIPTION:
URL:https://www.missionroyalegolfclub.com/event/casa-grande-chamber-of-commerce-tournament/
END:VEVENT
BEGIN:VEVENT
DTSTART;TZID=UTC:20251112T170000
DTEND;TZID=UTC:20251112T200000
DTSTAMP:20260425T110550
CREATED:20251027T183732Z
LAST-MODIFIED:20251027T183732Z
UID:10000092-1762966800-1762977600@www.missionroyalegolfclub.com
SUMMARY:Burger Night
DESCRIPTION:
URL:https://www.missionroyalegolfclub.com/event/burger-night-4/
END:VEVENT
BEGIN:VEVENT
DTSTART;TZID=UTC:20251114T140000
DTEND;TZID=UTC:20251114T160000
DTSTAMP:20260425T110550
CREATED:20251027T184006Z
LAST-MODIFIED:20251027T184006Z
UID:10000094-1763128800-1763136000@www.missionroyalegolfclub.com
SUMMARY:Fall Festival
DESCRIPTION:
URL:https://www.missionroyalegolfclub.com/event/fall-festival-2/
END:VEVENT
END:VCALENDAR