BEGIN:VCALENDAR
VERSION:2.0
PRODID:-//Mission Royale Golf Club - ECPv6.15.18//NONSGML v1.0//EN
CALSCALE:GREGORIAN
METHOD:PUBLISH
X-WR-CALNAME:Mission Royale Golf Club
X-ORIGINAL-URL:https://www.missionroyalegolfclub.com
X-WR-CALDESC:Events for Mission Royale Golf Club
REFRESH-INTERVAL;VALUE=DURATION:PT1H
X-Robots-Tag:noindex
X-PUBLISHED-TTL:PT1H
BEGIN:VTIMEZONE
TZID:UTC
BEGIN:STANDARD
TZOFFSETFROM:+0000
TZOFFSETTO:+0000
TZNAME:UTC
DTSTART:20250101T000000
END:STANDARD
END:VTIMEZONE
BEGIN:VEVENT
DTSTART;TZID=UTC:20260430T150000
DTEND;TZID=UTC:20260430T170000
DTSTAMP:20260424T130921
CREATED:20260403T185228Z
LAST-MODIFIED:20260403T185228Z
UID:10000202-1777561200-1777568400@www.missionroyalegolfclub.com
SUMMARY:Elite Realty Meet and Greet
DESCRIPTION:
URL:https://www.missionroyalegolfclub.com/event/elite-realty-meet-and-greet-5/
END:VEVENT
END:VCALENDAR