BEGIN:VCALENDAR
VERSION:2.0
PRODID:-//Mission Royale Golf Club - ECPv6.15.18//NONSGML v1.0//EN
CALSCALE:GREGORIAN
METHOD:PUBLISH
X-WR-CALNAME:Mission Royale Golf Club
X-ORIGINAL-URL:https://www.missionroyalegolfclub.com
X-WR-CALDESC:Events for Mission Royale Golf Club
REFRESH-INTERVAL;VALUE=DURATION:PT1H
X-Robots-Tag:noindex
X-PUBLISHED-TTL:PT1H
BEGIN:VTIMEZONE
TZID:UTC
BEGIN:STANDARD
TZOFFSETFROM:+0000
TZOFFSETTO:+0000
TZNAME:UTC
DTSTART:20250101T000000
END:STANDARD
END:VTIMEZONE
BEGIN:VEVENT
DTSTART;TZID=UTC:20260307T120000
DTEND;TZID=UTC:20260307T143000
DTSTAMP:20260424T143914
CREATED:20260204T173830Z
LAST-MODIFIED:20260228T213255Z
UID:10000125-1772884800-1772893800@www.missionroyalegolfclub.com
SUMMARY:Queen of Hearts
DESCRIPTION:
URL:https://www.missionroyalegolfclub.com/event/queen-of-hearts/2026-03-07/
END:VEVENT
BEGIN:VEVENT
DTSTART;TZID=UTC:20260307T160000
DTEND;TZID=UTC:20260307T180000
DTSTAMP:20260424T143914
CREATED:20260228T213453Z
LAST-MODIFIED:20260228T213453Z
UID:10000184-1772899200-1772906400@www.missionroyalegolfclub.com
SUMMARY:Rolling Bones Band
DESCRIPTION:
URL:https://www.missionroyalegolfclub.com/event/rolling-bones-band/
END:VEVENT
END:VCALENDAR