BEGIN:VCALENDAR
VERSION:2.0
PRODID:-//Mission Royale Golf Club - ECPv6.15.18//NONSGML v1.0//EN
CALSCALE:GREGORIAN
METHOD:PUBLISH
X-WR-CALNAME:Mission Royale Golf Club
X-ORIGINAL-URL:https://www.missionroyalegolfclub.com
X-WR-CALDESC:Events for Mission Royale Golf Club
REFRESH-INTERVAL;VALUE=DURATION:PT1H
X-Robots-Tag:noindex
X-PUBLISHED-TTL:PT1H
BEGIN:VTIMEZONE
TZID:UTC
BEGIN:STANDARD
TZOFFSETFROM:+0000
TZOFFSETTO:+0000
TZNAME:UTC
DTSTART:20250101T000000
END:STANDARD
END:VTIMEZONE
BEGIN:VEVENT
DTSTART;TZID=UTC:20260220T120000
DTEND;TZID=UTC:20260220T190000
DTSTAMP:20260424T163107
CREATED:20260204T173707Z
LAST-MODIFIED:20260204T173707Z
UID:10000120-1771588800-1771614000@www.missionroyalegolfclub.com
SUMMARY:Fish Fry Friday
DESCRIPTION:
URL:https://www.missionroyalegolfclub.com/event/fish-fry-friday-15/
END:VEVENT
END:VCALENDAR