BEGIN:VCALENDAR
VERSION:2.0
PRODID:-//Mission Royale Golf Club - ECPv6.15.18//NONSGML v1.0//EN
CALSCALE:GREGORIAN
METHOD:PUBLISH
X-WR-CALNAME:Mission Royale Golf Club
X-ORIGINAL-URL:https://www.missionroyalegolfclub.com
X-WR-CALDESC:Events for Mission Royale Golf Club
REFRESH-INTERVAL;VALUE=DURATION:PT1H
X-Robots-Tag:noindex
X-PUBLISHED-TTL:PT1H
BEGIN:VTIMEZONE
TZID:UTC
BEGIN:STANDARD
TZOFFSETFROM:+0000
TZOFFSETTO:+0000
TZNAME:UTC
DTSTART:20250101T000000
END:STANDARD
END:VTIMEZONE
BEGIN:VEVENT
DTSTART;TZID=UTC:20260210T130000
DTEND;TZID=UTC:20260210T150000
DTSTAMP:20260424T163106
CREATED:20260204T173419Z
LAST-MODIFIED:20260204T173419Z
UID:10000118-1770728400-1770735600@www.missionroyalegolfclub.com
SUMMARY:Robson and Mission Royale Lunch
DESCRIPTION:
URL:https://www.missionroyalegolfclub.com/event/robson-and-mission-royale-lunch/
END:VEVENT
END:VCALENDAR