BEGIN:VCALENDAR
VERSION:2.0
PRODID:-//Mission Royale Golf Club - ECPv6.15.18//NONSGML v1.0//EN
CALSCALE:GREGORIAN
METHOD:PUBLISH
X-WR-CALNAME:Mission Royale Golf Club
X-ORIGINAL-URL:https://www.missionroyalegolfclub.com
X-WR-CALDESC:Events for Mission Royale Golf Club
REFRESH-INTERVAL;VALUE=DURATION:PT1H
X-Robots-Tag:noindex
X-PUBLISHED-TTL:PT1H
BEGIN:VTIMEZONE
TZID:UTC
BEGIN:STANDARD
TZOFFSETFROM:+0000
TZOFFSETTO:+0000
TZNAME:UTC
DTSTART:20250101T000000
END:STANDARD
END:VTIMEZONE
BEGIN:VEVENT
DTSTART;TZID=UTC:20260130T163000
DTEND;TZID=UTC:20260130T193000
DTSTAMP:20260424T162401
CREATED:20251214T214520Z
LAST-MODIFIED:20251214T214520Z
UID:10000112-1769790600-1769801400@www.missionroyalegolfclub.com
SUMMARY:Karaoke Night
DESCRIPTION:
URL:https://www.missionroyalegolfclub.com/event/karaoke-night-12/
END:VEVENT
END:VCALENDAR