BEGIN:VCALENDAR
VERSION:2.0
PRODID:-//Mission Royale Golf Club - ECPv6.15.18//NONSGML v1.0//EN
CALSCALE:GREGORIAN
METHOD:PUBLISH
X-WR-CALNAME:Mission Royale Golf Club
X-ORIGINAL-URL:https://www.missionroyalegolfclub.com
X-WR-CALDESC:Events for Mission Royale Golf Club
REFRESH-INTERVAL;VALUE=DURATION:PT1H
X-Robots-Tag:noindex
X-PUBLISHED-TTL:PT1H
BEGIN:VTIMEZONE
TZID:UTC
BEGIN:STANDARD
TZOFFSETFROM:+0000
TZOFFSETTO:+0000
TZNAME:UTC
DTSTART:20240101T000000
END:STANDARD
END:VTIMEZONE
BEGIN:VEVENT
DTSTART;TZID=UTC:20251216T133000
DTEND;TZID=UTC:20251216T153000
DTSTAMP:20260424T191743
CREATED:20251203T173205Z
LAST-MODIFIED:20251203T173253Z
UID:10000101-1765891800-1765899000@www.missionroyalegolfclub.com
SUMMARY:Ladies 18 Hole League Luncheon
DESCRIPTION:
URL:https://www.missionroyalegolfclub.com/event/ladies-18-hole-league-luncheon/
END:VEVENT
END:VCALENDAR